BEGIN:VCALENDAR
VERSION:2.0
PRODID:-//wp-events-plugin.com//6.4.7.2//EN
TZID:Europe/Berlin
X-WR-TIMEZONE:Europe/Berlin
BEGIN:VEVENT
UID:430@dpsg-freiburg.de
DTSTART;TZID=Europe/Berlin;VALUE=DATE:20240126
DTEND;TZID=Europe/Berlin;VALUE=DATE:20240129
DTSTAMP:20231123T085753Z
URL:https://dpsg-freiburg.de/service/veranstaltungen/track-for-kidz-2024/
SUMMARY:Track for Kidz 2024 | TfK-Zeltplatz | 26. Januar 2024 - 28. Januar 
 2024 - ganztägig
DESCRIPTION:Track for Kidz 2024 - 90's Edition\nDas ultimative Winterzelten
  für die Pfadistufe im DV Freiburg - jetzt mit noch mehr Latzhosen!\n\n U
 pdate vom 23.11.: Wir sind ausgebucht. Falls ihr keine Plätze mehr bekomm
 en habt\, schreibt uns gerne eine E-Mail und wir informieren euch\, falls 
 doch noch Plätze frei werden.\n\nHier findet ihr die Gruppenanmeldung fü
 r Track for Kidz 2024. Anmeldungen sind ab dem 08.10.2023 möglich\, Anmel
 deschluss ist der 03.12.2023. Meldet euch mit Fragen gerne bei Jonas (jona
 s.haas@dpsg-freiburg.de).\n\n\n\n\n\n\n\n\n   \n        \n            Java
 Script ist in deinem Browser deaktiviert. Um unseren Ticket-Shop ohne Java
 Script aufzurufen\, klicke bitte hier.\n        \n    \n
CATEGORIES:Pfadfinder
LOCATION:TfK-Zeltplatz\, Neuweg 3\, Furtwangen im Schwarzwald\, Deutschland
X-APPLE-STRUCTURED-LOCATION;VALUE=URI;X-ADDRESS=Neuweg 3\, Furtwangen im Sc
 hwarzwald\, Deutschland;X-APPLE-RADIUS=100;X-TITLE=TfK-Zeltplatz:geo:0,0
END:VEVENT
BEGIN:VTIMEZONE
TZID:Europe/Berlin
X-LIC-LOCATION:Europe/Berlin
BEGIN:STANDARD
DTSTART:20231029T020000
TZOFFSETFROM:+0200
TZOFFSETTO:+0100
TZNAME:CET
END:STANDARD
END:VTIMEZONE
END:VCALENDAR