BEGIN:VCALENDAR
VERSION:2.0
PRODID:-//wp-events-plugin.com//6.4.7.2//EN
TZID:Europe/Berlin
X-WR-TIMEZONE:Europe/Berlin
BEGIN:VEVENT
UID:444@dpsg-freiburg.de
DTSTART;TZID=Europe/Berlin;VALUE=DATE:20240530
DTEND;TZID=Europe/Berlin;VALUE=DATE:20240603
DTSTAMP:20240311T130719Z
URL:https://dpsg-freiburg.de/service/veranstaltungen/stuermt-den-see-2024/
SUMMARY:Stürmt den See 2024 | Jugendzeltplatz Heinrich Suso | 30. Mai 2024
  - 2. Juni 2024 - ganztägig
DESCRIPTION:Hej du\,\nunter dem Motto "RȮVER Stürmt den See" wollen wir a
 uch 2024 wieder gemeinsam mit euch Rovern unsere Zelte am Bodensee aufschl
 agen und ein entspanntes verlängertes Wochenende verbringen. Dieses Mal e
 ntführen wir euch in die Welt Schwedens und richten unseren Zeltplatz sch
 öner und einladender ein als je zuvor!\n\nZeltest du noch oder roverst du
  schon? Freut euch auf ein Wochenende voller kreativer Workshops\, in dene
 n ihr euer handwerkliches Geschick unter Beweis stellen könnt. Auch in di
 esem Jahr setzen wir auf eure Kreativität und laden euch ein\, die Verans
 taltung mit euren eigenen Workshop-Ideen oder anderen kreativen Beiträgen
  zu bereichern. Genauere Infos dazu folgen nach Anmeldung.\n\nMacht euch a
 lso nach der Anmeldung Gedanken\, was ihr für die anderen Gruppen anbiete
 n oder vorbereiten wollt. Bei Fragen oder benötigter Unterstützung könn
 t ihr euch jederzeit melden.\n\n 	Wann? 30.05. - 02.06.2024\n 	Wo? Konstan
 z-Litzelstetten\, direkt am See\n 	Preis? 30 €\n 	Anreise: 30.05.2024 ab
  17:00 Uhr\n 	Abreise: 02.06.2024 frühestens ab 13:00 Uhr nach dem gemein
 samen Abbauen\n 	Mitzubringen: eigenes Zelte (Mittelstangen vorhanden)\, 
 Workshop\, Badesachen\, reguläres Lagermaterial\n 	Storno: Bis 2 Wochen 
 vor der Veranstaltung könnt ihr kostenlos von der Anmeldung zurücktreten
 . Danach verlangen wir eine Stornogebühr von 10\,00€ pro Person. Es ist
  jedoch möglich Personen auszutauschen.\n\nWir freuen uns auf euch!\n\nEu
 er\n\nRȮVER-AK\n\n\nAnmeldung\nDirekt hier oder unter folgendem Link anme
 lden: https://anmeldung.dpsg-freiburg.de/dvfr/sds2024/\n\n\n\n\n\n   \n   
      \n            JavaScript ist in Ihrem Browser deaktiviert. Um unseren
  Ticket-Shop ohne JavaScript aufzurufen\, klicken Sie bitte hier.\n       
  \n    \n\n\nNoch Fragen?\nhttps://dpsg-freiburg.de/stufen/rover/stuermt-d
 en-see/stuermt-den-see-faq/\n
ATTACH;FMTTYPE=image/jpeg:https://dpsg-freiburg.de/wp-content/uploads/2023
 /11/Postkarte_cover-1.png
CATEGORIES:Rover
LOCATION:Jugendzeltplatz Heinrich Suso\, Großherzog-Friedrich-Straße 27\,
  Konstanz (Litzelstetten)\, 78465 \, Deutschland
X-APPLE-STRUCTURED-LOCATION;VALUE=URI;X-ADDRESS=Großherzog-Friedrich-Stra
 ße 27\, Konstanz (Litzelstetten)\, 78465 \, Deutschland;X-APPLE-RADIUS=10
 0;X-TITLE=Jugendzeltplatz Heinrich Suso:geo:0,0
END:VEVENT
BEGIN:VTIMEZONE
TZID:Europe/Berlin
X-LIC-LOCATION:Europe/Berlin
BEGIN:DAYLIGHT
DTSTART:20240331T030000
TZOFFSETFROM:+0100
TZOFFSETTO:+0200
TZNAME:CEST
END:DAYLIGHT
END:VTIMEZONE
END:VCALENDAR