BEGIN:VCALENDAR
VERSION:2.0
PRODID:-//wp-events-plugin.com//6.4.7.2//EN
TZID:Europe/Berlin
X-WR-TIMEZONE:Europe/Berlin
BEGIN:VEVENT
UID:479@dpsg-freiburg.de
DTSTART;TZID=Europe/Berlin:20240429T183000
DTEND;TZID=Europe/Berlin:20240429T213000
DTSTAMP:20240321T143551Z
URL:https://dpsg-freiburg.de/service/veranstaltungen/schulung-krisen-und-n
 otfallmanagement-online-schulung-2/
SUMMARY:Schulung Krisen- und Notfallmanagement - Online-Schulung |  | 29. A
 pril 2024 - 18:30 - 21:30
DESCRIPTION:Zielgruppe\nLeiterinnen und Leiter\, die ein Lager planen und s
 ich mehr Handlungssicherheit im Umgang mit Krisen- und Notfällen wünsche
 n\nInhalte\n\n 	Verschiedene Szenarien von Krisen und Notfällen\n 	Präve
 ntionsformen - primär\, sekundär\, tertiär\n 	Stress-Krise-Trauma im No
 tfallmanagement\n 	Checklisten für die Planung von Veranstaltungen\n 	Kri
 sen- und Notfallkonzept im DPSG DV Freiburg\n 	Angepasste Notfallkonzepte 
 für eigene Veranstaltungen\n 	Verhaltensregeln im Notfall und mögliche H
 andlungsoptionen\n 	Dies ist KEIN Erste-Hilfe-Kurs\n\nFortbildung Krisen- 
 und Notfallmanagement 2024\nAnmeldung\nBitte melde dich bis 27.04.2024 an.
 \n\nWende dich bei Fragen an achim.oswald@dpsg-freiburg.de\, Tel.: +49 76
 1 5144-175\n\n\n\n\n\n            JavaScript ist in deinem Browser deaktiv
 iert. Um unseren Ticket-Shop ohne JavaScript aufzurufen\, klicke bitte hie
 r.\n\n
ATTACH;FMTTYPE=image/jpeg:https://dpsg-freiburg.de/wp-content/uploads/2021
 /03/KN-Logo-Schulung.jpg
CATEGORIES:Diözesanverband
END:VEVENT
BEGIN:VTIMEZONE
TZID:Europe/Berlin
X-LIC-LOCATION:Europe/Berlin
BEGIN:DAYLIGHT
DTSTART:20240331T030000
TZOFFSETFROM:+0100
TZOFFSETTO:+0200
TZNAME:CEST
END:DAYLIGHT
END:VTIMEZONE
END:VCALENDAR