BEGIN:VCALENDAR
VERSION:2.0
PRODID:-//wp-events-plugin.com//6.4.7.2//EN
TZID:Europe/Berlin
X-WR-TIMEZONE:Europe/Berlin
BEGIN:VEVENT
UID:560@dpsg-freiburg.de
DTSTART;TZID=Europe/Berlin;VALUE=DATE:20261227
DTEND;TZID=Europe/Berlin;VALUE=DATE:20270106
DTSTAMP:20250924T142041Z
URL:https://dpsg-freiburg.de/service/veranstaltungen/rover-wbk/
SUMMARY:Rover WBK |  | 27. Dezember 2026 - 5. Januar 2027 - ganztägig
DESCRIPTION:
CATEGORIES:Diözesanverband
END:VEVENT
BEGIN:VTIMEZONE
TZID:Europe/Berlin
X-LIC-LOCATION:Europe/Berlin
BEGIN:STANDARD
DTSTART:20261025T020000
TZOFFSETFROM:+0200
TZOFFSETTO:+0100
TZNAME:CET
END:STANDARD
END:VTIMEZONE
END:VCALENDAR