BEGIN:VCALENDAR
VERSION:2.0
PRODID:-//wp-events-plugin.com//6.4.7.2//EN
TZID:Europe/Berlin
X-WR-TIMEZONE:Europe/Berlin
BEGIN:VEVENT
UID:581@dpsg-freiburg.de
DTSTART;TZID=Europe/Berlin:20260618T183000
DTEND;TZID=Europe/Berlin:20260618T183000
DTSTAMP:20260302T211924Z
URL:https://dpsg-freiburg.de/service/veranstaltungen/praeventionsschulung-
 modulbaustein-2d/
SUMMARY:Präventionsschulung (Modulbaustein 2d) |  | 18. Juni 2026 - 18:30
DESCRIPTION:&nbsp\;\n\nZur Schulung anmelden könnt ihr euch hier: https://
 tally.so/r/q4AOQG\n\nDu hast Schulungsbedarf\, aber die Schulung findet ni
 cht in deiner Region statt\, oder ist schon ausgebucht? Dann melde dich be
 i Line unter laurine.haag@seelsorgeamt-freiburg.de\n\n&nbsp\;
ATTACH;FMTTYPE=image/jpeg:https://dpsg-freiburg.de/wp-content/uploads/2026
 /03/Vorlage-Insta-post-Präventionsschulung-1.png
CATEGORIES:Diözesanverband
END:VEVENT
BEGIN:VTIMEZONE
TZID:Europe/Berlin
X-LIC-LOCATION:Europe/Berlin
BEGIN:DAYLIGHT
DTSTART:20260329T030000
TZOFFSETFROM:+0100
TZOFFSETTO:+0200
TZNAME:CEST
END:DAYLIGHT
END:VTIMEZONE
END:VCALENDAR