BEGIN:VCALENDAR
VERSION:2.0
PRODID:-//wp-events-plugin.com//6.4.7.2//EN
TZID:Europe/Berlin
X-WR-TIMEZONE:Europe/Berlin
BEGIN:VEVENT
UID:478@dpsg-freiburg.de
DTSTART;TZID=Europe/Berlin:20240619T183000
DTEND;TZID=Europe/Berlin:20240619T220000
DTSTAMP:20240424T135557Z
URL:https://dpsg-freiburg.de/service/veranstaltungen/praeventions-schulung
 -2d-5/
SUMMARY:Präventions-Schulung 2d |  | 19. Juni 2024 - 18:30 - 22:00
DESCRIPTION:Anmeldung: https://anmeldung.dpsg-freiburg.de/dvfr/2d-online4/
CATEGORIES:Diözesanverband
END:VEVENT
BEGIN:VTIMEZONE
TZID:Europe/Berlin
X-LIC-LOCATION:Europe/Berlin
BEGIN:DAYLIGHT
DTSTART:20240331T030000
TZOFFSETFROM:+0100
TZOFFSETTO:+0200
TZNAME:CEST
END:DAYLIGHT
END:VTIMEZONE
END:VCALENDAR