BEGIN:VCALENDAR
VERSION:2.0
PRODID:-//wp-events-plugin.com//6.4.7.2//EN
TZID:Europe/Berlin
X-WR-TIMEZONE:Europe/Berlin
BEGIN:VEVENT
UID:477@dpsg-freiburg.de
DTSTART;TZID=Europe/Berlin:20240514T173000
DTEND;TZID=Europe/Berlin:20240514T210000
DTSTAMP:20240412T102536Z
URL:https://dpsg-freiburg.de/service/veranstaltungen/praeventions-schulung
 -2d-4/
SUMMARY:Präventions-Schulung 2d | Erzbischöfliches Seelsorgeamt | 14. Mai
  2024 - 17:30 - 21:00
DESCRIPTION:Anmeldung: https://anmeldung.dpsg-freiburg.de/dvfr/2d-schulung/
CATEGORIES:Diözesanverband
LOCATION:Erzbischöfliches Seelsorgeamt\, Okenstraße 15\, Freiburg i. Br.\
 , Baden-Württemberg\, 79108\, Deutschland
X-APPLE-STRUCTURED-LOCATION;VALUE=URI;X-ADDRESS=Okenstraße 15\, Freiburg i
 . Br.\, Baden-Württemberg\, 79108\, Deutschland;X-APPLE-RADIUS=100;X-TITL
 E=Erzbischöfliches Seelsorgeamt:geo:0,0
END:VEVENT
BEGIN:VTIMEZONE
TZID:Europe/Berlin
X-LIC-LOCATION:Europe/Berlin
BEGIN:DAYLIGHT
DTSTART:20240331T030000
TZOFFSETFROM:+0100
TZOFFSETTO:+0200
TZNAME:CEST
END:DAYLIGHT
END:VTIMEZONE
END:VCALENDAR