BEGIN:VCALENDAR
VERSION:2.0
PRODID:-//wp-events-plugin.com//6.4.7.2//EN
TZID:Europe/Berlin
X-WR-TIMEZONE:Europe/Berlin
BEGIN:VEVENT
UID:476@dpsg-freiburg.de
DTSTART;TZID=Europe/Berlin:20240503T170000
DTEND;TZID=Europe/Berlin:20240503T203000
DTSTAMP:20240416T110023Z
URL:https://dpsg-freiburg.de/service/veranstaltungen/praeventions-schulung
 -2d-3/
SUMMARY:Präventions-Schulung 2d | DPSG Stamm St. Peter & Paul | 3. Mai 202
 4 - 17:00 - 20:30
DESCRIPTION:Anmeldung: https://anmeldung.dpsg-freiburg.de/dvfr/2d-schulung-
 3/
CATEGORIES:Diözesanverband
LOCATION:DPSG Stamm St. Peter & Paul\, Hagelkreuz 16\, Bruchsal\, 76646 \, 
 Deutschland
X-APPLE-STRUCTURED-LOCATION;VALUE=URI;X-ADDRESS=Hagelkreuz 16\, Bruchsal\, 
 76646 \, Deutschland;X-APPLE-RADIUS=100;X-TITLE=DPSG Stamm St. Peter & Pau
 l:geo:0,0
END:VEVENT
BEGIN:VTIMEZONE
TZID:Europe/Berlin
X-LIC-LOCATION:Europe/Berlin
BEGIN:DAYLIGHT
DTSTART:20240331T030000
TZOFFSETFROM:+0100
TZOFFSETTO:+0200
TZNAME:CEST
END:DAYLIGHT
END:VTIMEZONE
END:VCALENDAR