BEGIN:VCALENDAR
VERSION:2.0
PRODID:-//wp-events-plugin.com//6.4.7.2//EN
TZID:Europe/Berlin
X-WR-TIMEZONE:Europe/Berlin
BEGIN:VEVENT
UID:475@dpsg-freiburg.de
DTSTART;TZID=Europe/Berlin:20240416T180000
DTEND;TZID=Europe/Berlin:20240416T213000
DTSTAMP:20240322T100507Z
URL:https://dpsg-freiburg.de/service/veranstaltungen/praeventions-schulung
 -2d-2/
SUMMARY:Präventions-Schulung 2d |  | 16. April 2024 - 18:00 - 21:30
DESCRIPTION:Die Schulung findet online statt.\n\nZur Anmeldung geht es hier
 .
CATEGORIES:Diözesanverband
END:VEVENT
BEGIN:VTIMEZONE
TZID:Europe/Berlin
X-LIC-LOCATION:Europe/Berlin
BEGIN:DAYLIGHT
DTSTART:20240331T030000
TZOFFSETFROM:+0100
TZOFFSETTO:+0200
TZNAME:CEST
END:DAYLIGHT
END:VTIMEZONE
END:VCALENDAR