BEGIN:VCALENDAR
VERSION:2.0
PRODID:-//wp-events-plugin.com//6.4.7.2//EN
TZID:Europe/Berlin
X-WR-TIMEZONE:Europe/Berlin
BEGIN:VEVENT
UID:406@dpsg-freiburg.de
DTSTART;TZID=Europe/Berlin;VALUE=DATE:20240308
DTEND;TZID=Europe/Berlin;VALUE=DATE:20240311
DTSTAMP:20231214T115218Z
URL:https://dpsg-freiburg.de/service/veranstaltungen/levelup/
SUMMARY:LevelUP 2024 | Baden-Powell-Haus | 8. März 2024 - 10. März 2024 -
  ganztägig
DESCRIPTION:LevelUP = StaVo-Fortbildung und  Modulleitungstraining (bisher 
 bekannt als DAT) \nEingeladen sind alle StaVos und Teamende für Woodbadge
 -Einstieg und Woodbadge-Modulkurse\n\nHier geht es zur Anmeldung.\n\n\n\n
CATEGORIES:Diözesanverband
LOCATION:Baden-Powell-Haus\, Koppenwaldstraße 1\, Gengenbach-Bergach\, Bad
 en-Württemberg\, 77723\, Deutschland
GEO:48.379819;8.038639
X-APPLE-STRUCTURED-LOCATION;VALUE=URI;X-ADDRESS=Koppenwaldstraße 1\, Genge
 nbach-Bergach\, Baden-Württemberg\, 77723\, Deutschland;X-APPLE-RADIUS=10
 0;X-TITLE=Baden-Powell-Haus:geo:48.379819,8.038639
END:VEVENT
BEGIN:VTIMEZONE
TZID:Europe/Berlin
X-LIC-LOCATION:Europe/Berlin
BEGIN:STANDARD
DTSTART:20231029T020000
TZOFFSETFROM:+0200
TZOFFSETTO:+0100
TZNAME:CET
END:STANDARD
END:VTIMEZONE
END:VCALENDAR