BEGIN:VCALENDAR
VERSION:2.0
PRODID:-//wp-events-plugin.com//6.4.7.2//EN
TZID:Europe/Berlin
X-WR-TIMEZONE:Europe/Berlin
BEGIN:VEVENT
UID:545@dpsg-freiburg.de
DTSTART;TZID=Europe/Berlin;VALUE=DATE:20260306
DTEND;TZID=Europe/Berlin;VALUE=DATE:20260309
DTSTAMP:20260205T145330Z
URL:https://dpsg-freiburg.de/service/veranstaltungen/levelup-mltstavo-fort
 bildung/
SUMMARY:MLT = Modulleitungstraining | Baden Powell Haus Gengenbach | 6. Mä
 rz 2026 - 8. März 2026 - ganztägig
DESCRIPTION:MLT = Modul Leitungstraining: 06.03.2026  - 08.03.2026\n\nhttp
 s://anmeldung.dpsg-freiburg.de/dvfr/MLT2026/\n\n\n\n&nbsp\;
ATTACH;FMTTYPE=image/jpeg:https://dpsg-freiburg.de/wp-content/uploads/2025
 /09/MLT-2026-klein.jpg
CATEGORIES:Bildung,Diözesanverband
LOCATION:Baden Powell Haus Gengenbach\, Koppenwaldstraße 1\, Gengenbach\, 
 Deutschland
X-APPLE-STRUCTURED-LOCATION;VALUE=URI;X-ADDRESS=Koppenwaldstraße 1\, Genge
 nbach\, Deutschland;X-APPLE-RADIUS=100;X-TITLE=Baden Powell Haus Gengenbac
 h:geo:0,0
END:VEVENT
BEGIN:VTIMEZONE
TZID:Europe/Berlin
X-LIC-LOCATION:Europe/Berlin
BEGIN:STANDARD
DTSTART:20251026T020000
TZOFFSETFROM:+0200
TZOFFSETTO:+0100
TZNAME:CET
END:STANDARD
END:VTIMEZONE
END:VCALENDAR