BEGIN:VCALENDAR
VERSION:2.0
PRODID:-//wp-events-plugin.com//6.4.7.2//EN
TZID:Europe/Berlin
X-WR-TIMEZONE:Europe/Berlin
BEGIN:VEVENT
UID:563@dpsg-freiburg.de
DTSTART;TZID=Europe/Berlin;VALUE=DATE:20270305
DTEND;TZID=Europe/Berlin;VALUE=DATE:20270308
DTSTAMP:20250924T151012Z
URL:https://dpsg-freiburg.de/service/veranstaltungen/levelup-mltstavo-fort
 bildung-2/
SUMMARY:LevelUP (MLT+StaVo Fortbildung) | Baden Powell Haus Gengenbach | 5.
  März 2027 - 7. März 2027 - ganztägig
DESCRIPTION:
CATEGORIES:Diözesanverband
LOCATION:Baden Powell Haus Gengenbach\, Koppenwaldstraße 1\, Gengenbach\, 
 Deutschland
X-APPLE-STRUCTURED-LOCATION;VALUE=URI;X-ADDRESS=Koppenwaldstraße 1\, Genge
 nbach\, Deutschland;X-APPLE-RADIUS=100;X-TITLE=Baden Powell Haus Gengenbac
 h:geo:0,0
END:VEVENT
BEGIN:VTIMEZONE
TZID:Europe/Berlin
X-LIC-LOCATION:Europe/Berlin
BEGIN:STANDARD
DTSTART:20261025T020000
TZOFFSETFROM:+0200
TZOFFSETTO:+0100
TZNAME:CET
END:STANDARD
END:VTIMEZONE
END:VCALENDAR