BEGIN:VCALENDAR
VERSION:2.0
PRODID:-//wp-events-plugin.com//6.4.7.2//EN
TZID:Europe/Berlin
X-WR-TIMEZONE:Europe/Berlin
BEGIN:VEVENT
UID:473@dpsg-freiburg.de
DTSTART;TZID=Europe/Berlin;VALUE=DATE:20250321
DTEND;TZID=Europe/Berlin;VALUE=DATE:20250324
DTSTAMP:20250131T150757Z
URL:https://dpsg-freiburg.de/service/veranstaltungen/kinderaktion-woelfi-a
 uf-weltreise/
SUMMARY:Kinderaktion - Wölfi auf Weltreise |  | 21. März 2025 - 23. März
  2025 - ganztägig
DESCRIPTION:Wölfi geht auf Weltreise!\nVom 21.03. - 23.03.2025 laden wir e
 uch und eure Wölflingsmeute auf eine spektakuläre Weltreise ein.\nFreut 
 euch auf ein gemeinsames Wochenende voller Spiele\, Spaß und Abenteuer in
  Gengenbach.\nGemeinsam entdecken wir die Welt!\nAUSGEBUCHT\nBei Fragen k
 önnt ihr euch gerne bei uns melden.\n\nEuer Wö AK
ATTACH;FMTTYPE=image/jpeg:https://dpsg-freiburg.de/wp-content/uploads/2024
 /02/Rot-und-Blau-Süß-Postwurfsendung-Allgemein-Postkarte1.png
CATEGORIES:Diözesanverband,Wölflinge
END:VEVENT
BEGIN:VTIMEZONE
TZID:Europe/Berlin
X-LIC-LOCATION:Europe/Berlin
BEGIN:STANDARD
DTSTART:20241027T020000
TZOFFSETFROM:+0200
TZOFFSETTO:+0100
TZNAME:CET
END:STANDARD
END:VTIMEZONE
END:VCALENDAR