BEGIN:VCALENDAR
VERSION:2.0
PRODID:-//wp-events-plugin.com//6.4.7.2//EN
TZID:Europe/Berlin
X-WR-TIMEZONE:Europe/Berlin
BEGIN:VEVENT
UID:541@dpsg-freiburg.de
DTSTART;TZID=Europe/Berlin:20250714T200000
DTEND;TZID=Europe/Berlin:20250714T210000
DTSTAMP:20250709T150742Z
URL:https://dpsg-freiburg.de/service/veranstaltungen/infoabend-fuer-intere
 ssierte-an-unterlagerleitungen-beim-ringelager-2028/
SUMMARY:Infoabend für Interessierte an Unterlagerleitungen beim Ringelager
  2028 |  | 14. Juli 2025 - 20:00 - 21:00
DESCRIPTION:Der DV Freiburg sucht eine Unterlagerleitung für das rdp Ringe
 lager 2028!\nHierfür findet am Mo. 14.07.2025 um 20:00 Uhr ein Online-Inf
 oabend für alle Interessierte an Unterlagerleitungen statt. Nimm gerne te
 il\, falls du am Ringelager 2028 mitwirken möchtest\, aber noch nicht gen
 au weißt in welcher Rolle.\n\nhttps://us02web.zoom.us/j/81414972689?pwd=p
 1jCXw7gARitUjQ66ic4WHakFFElGp.1\n\nMeeting-ID: 814 1497 2689\n\nKenncode: 
 146830\n\n&nbsp\;\nWas ist das Ringelager 2028?\n\n 	Großlager der Pfadfi
 nder*innenverbände in Baden-Württemberg\n 	10 bis 12 Tage im ersten Teil
  der Sommerferien 2028\n 	Ca. 6500 Teilnehmende\n 	Das Ringelager wird in 
 mehrere Unterlager mit jeweils ca. 600 Teilnehmenden aufgeteilt\n\nHauptzi
 ele des Ringelagers:\n\n 	Vielfalt des Pfadfindens erleben\n 	Unterschiedl
 iche Verbandskulturen kennenlernen\n 	Von und mit anderen Verbänden lerne
 n\n 	Pfadfinden in Baden-Württemberg sichtbar machen\n 	Buntes Programm f
 ür alle Altersstufen\n\nIn der Vorbereitung:\n\n 	Du bist Ansprechpartner
 *in für die Stämme deines Unterlagers\n 	Du nimmst an Vorbereitungstreff
 en mit der Lagerleitung und mit Bereichsleitungen teil\n 	Du koordinierst 
 dein eigenes Unterlagerteam\n 	Du sorgst für Kommunikation und Austausch 
 mit der Lagerleitung und den Bereichsleitungen\n\nWährend des Lagers:\n\n
  	Du leitest das Leben in deinem Unterlager mit ca. 600 Teilnehmenden\n 	D
 u organisierst und moderierst Unterlagerräte und Teammeetings\n 	Du sorgs
 t für einen reibungslosen Ablauf und ein tolles Gruppengefühl\n\nGemeins
 am im Unterlagerteam plant ihr:\n\n 	Ein spannendes Programm für alle Alt
 ersstufen\n 	Die kreative Gestaltung des Unterlagerplatzes und Motto-Ausge
 staltung\n 	Werbung für euer Unterlager und Kontakt mit anderen Verbände
 n\n 	Organisation von Vorbereitungstreffen für euer Unterlager\n\nWas du 
 mitbringen solltest:\n\n 	Du bist motiviert\, kreativ und hast Lust auf Le
 itung und Organisation\n 	Du arbeitest gern im Team und vernetzt Dich mit 
 anderen\n 	Du bringst idealerweise Erfahrung mit Großveranstaltungen oder
  in einer anderen pfadfinderischen Leitungsposition mit\n\nWorauf du dich 
 freuen kannst:\n\n 	Ein Großlager voller Abenteuer mit vielfältiger Verb
 andskultur\n 	Gelebtes Miteinander und verbandsübergreifender Austausch\n
  	Die Möglichkeit\, Dein eigenes Unterlager kreativ und frei zu gestalten
 \n 	Unterstützung durch die Lagerleitung und die Bereichsleitungen\n 	Per
 sönliche Weiterbildung und Kompetenzentwicklung\n\nKontakt:\nmanuel.berg 
 [at] rdp-bw.de\n&nbsp\;\n\nFoto: Franziska Gebauer
ATTACH;FMTTYPE=image/jpeg:https://dpsg-freiburg.de/wp-content/uploads/2025
 /07/IMG_5429-Kopie-1.png
CATEGORIES:Diözesanverband
END:VEVENT
BEGIN:VTIMEZONE
TZID:Europe/Berlin
X-LIC-LOCATION:Europe/Berlin
BEGIN:DAYLIGHT
DTSTART:20250330T030000
TZOFFSETFROM:+0100
TZOFFSETTO:+0200
TZNAME:CEST
END:DAYLIGHT
END:VTIMEZONE
END:VCALENDAR