BEGIN:VCALENDAR
VERSION:2.0
PRODID:-//wp-events-plugin.com//6.4.7.2//EN
TZID:Europe/Berlin
X-WR-TIMEZONE:Europe/Berlin
BEGIN:VEVENT
UID:454@dpsg-freiburg.de
DTSTART;TZID=Europe/Berlin;VALUE=DATE:20241122
DTEND;TZID=Europe/Berlin;VALUE=DATE:20241125
DTSTAMP:20241108T160157Z
URL:https://dpsg-freiburg.de/service/veranstaltungen/herbst-dioezesanversa
 mmlung2024/
SUMMARY:Herbst-Diözesanversammlung 2024 |  | 22. November 2024 - 24. Novem
 ber 2024 - ganztägig
DESCRIPTION:Liebe BeVos\, Stufendelegierte\, DLer\, beratende DV Mitglieder
 \, Gäste und AKler\,\n\ndie Diözesanversammlung ist das oberste beschlus
 sfassende Gremium\nim DPSG Diözesanverband Freiburg.\n\nThemen an dem Woc
 henende:\n• Aussprache zum Rechenschaftsbericht der Diözesanleitung und
  des Diözesanvorstandes\n• Berichte von Bundesebene\, RdP\, BDKJ\n• J
 ahresplanung 2025\n• Anträge\n• Austausch in den Bezirken und Stufen\
 n• Wahl der Diözesanvorsitzenden (w/d) und des Diözesanvorsitzenden (m
 /d)\n• Wahlen für das Fördererwerk Sankt Georg e.V.\n• Verschiedenen
  aktuellen Themen der Jugendarbeit\n\nDas ausführliche Unterlagenbündel 
 mit Rechenschaftsbericht\, Zeitplan und organisatorischen Hinweisen gibt a
 b dem 08.11.2024 hier und per Mail an die Versammlungsmitglieder.\n\nBitte
  nutzt auch die Möglichkeit die einzelnen Rechenschaftsberichte des Vorst
 andes\, der AK und AGs\, sowie der Bildungsreferenten und des Fördererwer
 kes Sankt Georg e.V. schon vor der DV in dem folgenden Padlet zu kommentie
 ren. Diese Kommentare fließen bei der DV mit ein.\n&gt\;&gt\; https://pad
 let.com/achimoswald/ukzhvgtabzyjnmid\n\nBitte meldet euch bis zum 17.11.20
 24 hier in Buchungssystem an.\nWeitere Infos können im Diözesanbüro bei
 \nAchim Oswald 0761 / 5144 – 175 oder achim.oswald@dpsg-freiburg.de erfr
 agt werden.\n\nGrüße\nConstantin\n\n&nbsp\;\n\nHier findest du\n– DV G
 eschäftsordnung 11-2021\n– Rechenschaftsbericht Herbst DV 2024\n– Wah
 lordnung DPSG DV Freiburg 11-2021\n\nHier geht es zum Buchungssystem: http
 s://anmeldung.dpsg-freiburg.de/dvfr/herbst-dv-2024/\n\nEine Ausstauschmög
 lichkeit für Mitfahrgelegenheiten\, sowie eine Liste für Abholungen vom 
 Bahnhof gibt es hier.\nBitte tragt euch dort ein\, wenn ihr eine Mitfahrge
 legenheit sucht und\, wenn ihr jemanden mitnehmen könnt.
ATTACH;FMTTYPE=image/jpeg:https://dpsg-freiburg.de/wp-content/uploads/2020
 /12/dpsg-dvfr.jpg
CATEGORIES:Diözesanverband
END:VEVENT
BEGIN:VTIMEZONE
TZID:Europe/Berlin
X-LIC-LOCATION:Europe/Berlin
BEGIN:STANDARD
DTSTART:20241027T020000
TZOFFSETFROM:+0200
TZOFFSETTO:+0100
TZNAME:CET
END:STANDARD
END:VTIMEZONE
END:VCALENDAR