BEGIN:VCALENDAR
VERSION:2.0
PRODID:-//wp-events-plugin.com//6.4.7.2//EN
TZID:Europe/Berlin
X-WR-TIMEZONE:Europe/Berlin
BEGIN:VEVENT
UID:404@dpsg-freiburg.de
DTSTART;TZID=Europe/Berlin;VALUE=DATE:20240412
DTEND;TZID=Europe/Berlin;VALUE=DATE:20240415
DTSTAMP:20240328T163912Z
URL:https://dpsg-freiburg.de/service/veranstaltungen/fruehjahrs-dv-2024/
SUMMARY:Frühjahrs-Diözesanversammlung 2024 | Begegnungstätte St. Fridoli
 n | 12. April 2024 - 14. April 2024 - ganztägig
DESCRIPTION:Die Diözesanversammlung ist das oberste beschlussfassende Grem
 ium im DPSG Diözesanverband Freiburg.\n\nDie Frühjahrs DV wird vom 12.04
 . - 14.04.2024 in Rüttehof im Bezirk Wiesental-Hochrhein stattfinden.\nN
 ähere Infos dazu gibt es im Unterlagenbündel\, das zwei Wochen vor der D
 V verschickt wird.\n\nThemen sind:\n- DPSG und Kirchentwicklung 2030\n- Wa
 hl des Diözesanvorsitzenden und der Diözesanvorsitzenden\n- Anträge\n- 
 rdp: Ringerendezvous 2024 und Ringelager 2028\n- Jahresplanung 2025\n- Akt
 uelle Themen der Jugendarbeit und der Jugendpolitik\n- Ausblicke\n\nBitte 
 meldet euch bis zum 04.04.2024 hier in Buchungssystem an.\n\nHier findest 
 du die DV Geschäftsordnung 11-2021 und die Wahlordnung DPSG DV Freiburg 1
 1-2023 für die Diözesanversammlung.\nHier sind ab 30.03.2024 die Unterla
 gen zur Fruehjahrs DV 2024\n\nZum Buchungssystem geht es hier\n\nGrüße\n
 Elch und Constantin
CATEGORIES:Diözesanverband
LOCATION:Begegnungstätte St. Fridolin\, Wehrer Straße 2 \, Rickenbach-Rü
 ttehof\, 79736\, Deutschland
X-APPLE-STRUCTURED-LOCATION;VALUE=URI;X-ADDRESS=Wehrer Straße 2 \, Rickenb
 ach-Rüttehof\, 79736\, Deutschland;X-APPLE-RADIUS=100;X-TITLE=Begegnungst
 ätte St. Fridolin:geo:0,0
END:VEVENT
BEGIN:VTIMEZONE
TZID:Europe/Berlin
X-LIC-LOCATION:Europe/Berlin
BEGIN:DAYLIGHT
DTSTART:20240331T030000
TZOFFSETFROM:+0100
TZOFFSETTO:+0200
TZNAME:CEST
END:DAYLIGHT
END:VTIMEZONE
END:VCALENDAR