BEGIN:VCALENDAR
VERSION:2.0
PRODID:-//wp-events-plugin.com//6.4.7.2//EN
TZID:Europe/Berlin
X-WR-TIMEZONE:Europe/Berlin
BEGIN:VEVENT
UID:569@dpsg-freiburg.de
DTSTART;TZID=Europe/Berlin:20251214T140000
DTEND;TZID=Europe/Berlin:20251214T150000
DTSTAMP:20251016T130939Z
URL:https://dpsg-freiburg.de/service/veranstaltungen/friedenslicht-aussend
 ung-2025/
SUMMARY:Friedenslicht Aussendung 2025 |  | 14. Dezember 2025 - 14:00 - 15:0
 0
DESCRIPTION:Die Friedenlicht-Aussendungsfeier wird dieses Jahr an zwei zent
 ralen Orten gefeiert.\n\nDieses Jahr werden die großen Aussendungsfeiern 
 in der Erzdiözese Freiburg / dem Land Baden in Mannheim und in Freiburg s
 tattfinden.\n\n14.12.2025 um 14 Uhr\nÖkumenischen Kirche Maria Magdalena 
 in Rieselfeld\, Freiburg im Breisgau\n\n14.12.2025 um 15 Uhr\nJugendkirche
  Samuel in Mannheim
CATEGORIES:Diözesanverband
END:VEVENT
BEGIN:VTIMEZONE
TZID:Europe/Berlin
X-LIC-LOCATION:Europe/Berlin
BEGIN:STANDARD
DTSTART:20251026T020000
TZOFFSETFROM:+0200
TZOFFSETTO:+0100
TZNAME:CET
END:STANDARD
END:VTIMEZONE
END:VCALENDAR