BEGIN:VCALENDAR
VERSION:2.0
PRODID:-//wp-events-plugin.com//6.4.7.2//EN
TZID:Europe/Berlin
X-WR-TIMEZONE:Europe/Berlin
BEGIN:VEVENT
UID:566@dpsg-freiburg.de
DTSTART;TZID=Europe/Berlin;VALUE=DATE:20271008
DTEND;TZID=Europe/Berlin;VALUE=DATE:20271011
DTSTAMP:20250924T151455Z
URL:https://dpsg-freiburg.de/service/veranstaltungen/event-3/
SUMMARY:Event | Baden Powell Haus Gengenbach | 8. Oktober 2027 - 10. Oktobe
 r 2027 - ganztägig
DESCRIPTION:
CATEGORIES:Diözesanverband
LOCATION:Baden Powell Haus Gengenbach\, Koppenwaldstraße 1\, Gengenbach\, 
 Deutschland
X-APPLE-STRUCTURED-LOCATION;VALUE=URI;X-ADDRESS=Koppenwaldstraße 1\, Genge
 nbach\, Deutschland;X-APPLE-RADIUS=100;X-TITLE=Baden Powell Haus Gengenbac
 h:geo:0,0
END:VEVENT
BEGIN:VTIMEZONE
TZID:Europe/Berlin
X-LIC-LOCATION:Europe/Berlin
BEGIN:DAYLIGHT
DTSTART:20270328T030000
TZOFFSETFROM:+0100
TZOFFSETTO:+0200
TZNAME:CEST
END:DAYLIGHT
END:VTIMEZONE
END:VCALENDAR