BEGIN:VCALENDAR
VERSION:2.0
PRODID:-//wp-events-plugin.com//6.4.7.2//EN
TZID:Europe/Berlin
X-WR-TIMEZONE:Europe/Berlin
BEGIN:VEVENT
UID:564@dpsg-freiburg.de
DTSTART;TZID=Europe/Berlin;VALUE=DATE:20270409
DTEND;TZID=Europe/Berlin;VALUE=DATE:20270412
DTSTAMP:20250924T144047Z
URL:https://dpsg-freiburg.de/service/veranstaltungen/dl-22/
SUMMARY:DL | Baden Powell Haus Gengenbach | 9. April 2027 - 11. April 2027 
 - ganztägig
DESCRIPTION:
CATEGORIES:Diözesanverband
LOCATION:Baden Powell Haus Gengenbach\, Koppenwaldstraße 1\, Gengenbach\, 
 Deutschland
X-APPLE-STRUCTURED-LOCATION;VALUE=URI;X-ADDRESS=Koppenwaldstraße 1\, Genge
 nbach\, Deutschland;X-APPLE-RADIUS=100;X-TITLE=Baden Powell Haus Gengenbac
 h:geo:0,0
END:VEVENT
BEGIN:VTIMEZONE
TZID:Europe/Berlin
X-LIC-LOCATION:Europe/Berlin
BEGIN:DAYLIGHT
DTSTART:20270328T030000
TZOFFSETFROM:+0100
TZOFFSETTO:+0200
TZNAME:CEST
END:DAYLIGHT
END:VTIMEZONE
END:VCALENDAR