BEGIN:VCALENDAR
VERSION:2.0
PRODID:-//wp-events-plugin.com//6.4.7.2//EN
TZID:Europe/Berlin
X-WR-TIMEZONE:Europe/Berlin
BEGIN:VEVENT
UID:267@dpsg-freiburg.de
DTSTART;TZID=Europe/Berlin;VALUE=DATE:20220402
DTEND;TZID=Europe/Berlin;VALUE=DATE:20220403
DTSTAMP:20201104T141231Z
URL:https://dpsg-freiburg.de/service/veranstaltungen/dioezesanleitung-5/
SUMMARY:Diözesanleitung |  | 2. April 2022 - ganztägig
DESCRIPTION:
CATEGORIES:Diözesanverband
END:VEVENT
BEGIN:VTIMEZONE
TZID:Europe/Berlin
X-LIC-LOCATION:Europe/Berlin
BEGIN:DAYLIGHT
DTSTART:20220327T030000
TZOFFSETFROM:+0100
TZOFFSETTO:+0200
TZNAME:CEST
END:DAYLIGHT
END:VTIMEZONE
END:VCALENDAR