BEGIN:VCALENDAR
VERSION:2.0
PRODID:-//wp-events-plugin.com//6.4.7.2//EN
TZID:Europe/Berlin
X-WR-TIMEZONE:Europe/Berlin
BEGIN:VEVENT
UID:264@dpsg-freiburg.de
DTSTART;TZID=Europe/Berlin:20220211T180000
DTEND;TZID=Europe/Berlin:20220212T150000
DTSTAMP:20260302T212641Z
URL:https://dpsg-freiburg.de/service/veranstaltungen/dioezesanleitung-4/
SUMMARY:Diözesanleitung |  | 11. Februar 2022 - 12. Februar 2022 - 18:00 -
  15:00
DESCRIPTION:Hallo DL\,\n\nbitte meldet euch für die DL vom 11.02.22 bis 12
 .02.22 hier an.\n\nWir planen ein Krimidinner für den Freitagabend (Begin
 n ca. 21 Uhr bis ca. 23 Uhr).\nUm\, das planen zu können\, gebt unter Kom
 mentar bitte an: Ich möchte daran teilnehmen Ja/Nein\n\nDie Zomm Zugangsd
 aten bekommt ihr nach der Anmeldung kurz vor der DL.\nBitte meldet euch bi
 s zum 07.02.22 an\, damit wir noch rechtzeitig Surprises verschicken könn
 en.\n\nGrüße\nCarina und Christian
ATTACH;FMTTYPE=image/jpeg:https://dpsg-freiburg.de/wp-content/uploads/2020
 /12/dpsg-dvfr.jpg
CATEGORIES:Diözesanverband
END:VEVENT
BEGIN:VTIMEZONE
TZID:Europe/Berlin
X-LIC-LOCATION:Europe/Berlin
BEGIN:STANDARD
DTSTART:20211031T020000
TZOFFSETFROM:+0200
TZOFFSETTO:+0100
TZNAME:CET
END:STANDARD
END:VTIMEZONE
END:VCALENDAR