BEGIN:VCALENDAR
VERSION:2.0
PRODID:-//wp-events-plugin.com//6.4.7.2//EN
TZID:Europe/Berlin
X-WR-TIMEZONE:Europe/Berlin
BEGIN:VEVENT
UID:538@dpsg-freiburg.de
DTSTART;TZID=Europe/Berlin:20250603T183000
DTEND;TZID=Europe/Berlin:20250603T220000
DTSTAMP:20250519T133235Z
URL:https://dpsg-freiburg.de/service/veranstaltungen/digitales-modulleitun
 gstraining-mlt/
SUMMARY:Digitales Modulleitungstraining (MLT) |  | 3. Juni 2025 - 18:30 - 2
 2:00
DESCRIPTION:Digitales Moduleitungstraining (MLT)\nWann? 03.06.2025\, 18:30 
 Uhr\n\nWo? online\n\nWas? Woodbadge Einstieg\, Aktuelles von der Ausbildun
 g\, Vernetzung unter den Kursteams\n\nAnmeldung: https://anmeldung.dpsg-fr
 eiburg.de/dvfr/digi-mlt-2025/\n\n&nbsp\;
CATEGORIES:Diözesanverband
END:VEVENT
BEGIN:VTIMEZONE
TZID:Europe/Berlin
X-LIC-LOCATION:Europe/Berlin
BEGIN:DAYLIGHT
DTSTART:20250330T030000
TZOFFSETFROM:+0100
TZOFFSETTO:+0200
TZNAME:CEST
END:DAYLIGHT
END:VTIMEZONE
END:VCALENDAR