BEGIN:VCALENDAR
VERSION:2.0
PRODID:-//wp-events-plugin.com//6.4.7.2//EN
TZID:Europe/Berlin
X-WR-TIMEZONE:Europe/Berlin
BEGIN:VEVENT
UID:568@dpsg-freiburg.de
DTSTART;TZID=Europe/Berlin;VALUE=DATE:20260109
DTEND;TZID=Europe/Berlin;VALUE=DATE:20260112
DTSTAMP:20251109T084610Z
URL:https://dpsg-freiburg.de/service/veranstaltungen/das-wird-gross-kinder
 stufen-im-fokus/
SUMMARY:Das wird Gross - Kinderstufen im Fokus | Baden Powell Haus Gengenba
 ch | 9. Januar 2026 - 11. Januar 2026 - ganztägig
DESCRIPTION:Wir laden alle Leitenden\, der Wö und Jupfi Stufe\, zu einem w
 undervoll Blau Orangenen Wochenende ein. Wir wenden unseren Blick auf die 
 Kinderstufen in unserem Verband.\nLernt viele mitleitende kennen und tausc
 ht euch aus.\nIhr könnt euch auch schon Anmelden!!!
ATTACH;FMTTYPE=image/jpeg:https://dpsg-freiburg.de/wp-content/uploads/2025
 /10/Werbeplakat-Das-wird-Gross.jpg
CATEGORIES:Diözesanverband,Jungpfadfinder,Wölflinge
LOCATION:Baden Powell Haus Gengenbach\, Koppenwaldstraße 1\, Gengenbach\, 
 Deutschland
X-APPLE-STRUCTURED-LOCATION;VALUE=URI;X-ADDRESS=Koppenwaldstraße 1\, Genge
 nbach\, Deutschland;X-APPLE-RADIUS=100;X-TITLE=Baden Powell Haus Gengenbac
 h:geo:0,0
END:VEVENT
BEGIN:VTIMEZONE
TZID:Europe/Berlin
X-LIC-LOCATION:Europe/Berlin
BEGIN:STANDARD
DTSTART:20251026T020000
TZOFFSETFROM:+0200
TZOFFSETTO:+0100
TZNAME:CET
END:STANDARD
END:VTIMEZONE
END:VCALENDAR