BEGIN:VCALENDAR
VERSION:2.0
PRODID:-//wp-events-plugin.com//6.4.7.2//EN
TZID:Europe/Berlin
X-WR-TIMEZONE:Europe/Berlin
BEGIN:VEVENT
UID:448@dpsg-freiburg.de
DTSTART;TZID=Europe/Berlin;VALUE=DATE:20240914
DTEND;TZID=Europe/Berlin;VALUE=DATE:20240915
DTSTAMP:20240719T122204Z
URL:https://dpsg-freiburg.de/service/veranstaltungen/dankesfest/
SUMMARY:Dankesfest | Baden-Powell-Haus | 14. September 2024 - ganztägig
DESCRIPTION:
CATEGORIES:Diözesanverband
LOCATION:Baden-Powell-Haus\, Koppenwaldstraße 1\, Gengenbach-Bergach\, Bad
 en-Württemberg\, 77723\, Deutschland
GEO:48.379819;8.038639
X-APPLE-STRUCTURED-LOCATION;VALUE=URI;X-ADDRESS=Koppenwaldstraße 1\, Genge
 nbach-Bergach\, Baden-Württemberg\, 77723\, Deutschland;X-APPLE-RADIUS=10
 0;X-TITLE=Baden-Powell-Haus:geo:48.379819,8.038639
END:VEVENT
BEGIN:VTIMEZONE
TZID:Europe/Berlin
X-LIC-LOCATION:Europe/Berlin
BEGIN:DAYLIGHT
DTSTART:20240331T030000
TZOFFSETFROM:+0100
TZOFFSETTO:+0200
TZNAME:CEST
END:DAYLIGHT
END:VTIMEZONE
END:VCALENDAR