BEGIN:VCALENDAR
VERSION:2.0
PRODID:-//wp-events-plugin.com//6.4.7.2//EN
TZID:Europe/Berlin
X-WR-TIMEZONE:Europe/Berlin
BEGIN:VEVENT
UID:570@dpsg-freiburg.de
DTSTART;TZID=Europe/Berlin:20251220T000000
DTEND;TZID=Europe/Berlin:20260106T000000
DTSTAMP:20251028T130314Z
URL:https://dpsg-freiburg.de/service/veranstaltungen/buero-zu-9/
SUMMARY:Büro zu |  | 20. Dezember 2025 - 6. Januar 2026 - 0:00
DESCRIPTION:
CATEGORIES:Diözesanverband
END:VEVENT
BEGIN:VTIMEZONE
TZID:Europe/Berlin
X-LIC-LOCATION:Europe/Berlin
BEGIN:STANDARD
DTSTART:20251026T020000
TZOFFSETFROM:+0200
TZOFFSETTO:+0100
TZNAME:CET
END:STANDARD
END:VTIMEZONE
END:VCALENDAR