BEGIN:VCALENDAR
VERSION:2.0
PRODID:-//wp-events-plugin.com//6.4.7.2//EN
TZID:Europe/Berlin
X-WR-TIMEZONE:Europe/Berlin
BEGIN:VEVENT
UID:553@dpsg-freiburg.de
DTSTART;TZID=Europe/Berlin;VALUE=DATE:20261002
DTEND;TZID=Europe/Berlin;VALUE=DATE:20261003
DTSTAMP:20250924T141451Z
URL:https://dpsg-freiburg.de/service/veranstaltungen/buero-zu-6/
SUMMARY:Büro zu |  | 2. Oktober 2026 - ganztägig
DESCRIPTION:
CATEGORIES:Diözesanverband
END:VEVENT
BEGIN:VTIMEZONE
TZID:Europe/Berlin
X-LIC-LOCATION:Europe/Berlin
BEGIN:DAYLIGHT
DTSTART:20260329T030000
TZOFFSETFROM:+0100
TZOFFSETTO:+0200
TZNAME:CEST
END:DAYLIGHT
END:VTIMEZONE
END:VCALENDAR