BEGIN:VCALENDAR
VERSION:2.0
PRODID:-//wp-events-plugin.com//6.4.7.2//EN
TZID:Europe/Berlin
X-WR-TIMEZONE:Europe/Berlin
BEGIN:VEVENT
UID:456@dpsg-freiburg.de
DTSTART;TZID=Europe/Berlin;VALUE=DATE:20241223
DTEND;TZID=Europe/Berlin;VALUE=DATE:20250107
DTSTAMP:20231128T121920Z
URL:https://dpsg-freiburg.de/service/veranstaltungen/buero-geschlossen-6/
SUMMARY:Büro geschlossen |  | 23. Dezember 2024 - 6. Januar 2025 - ganztä
 gig
DESCRIPTION:
CATEGORIES:Büro,Diözesanverband
END:VEVENT
BEGIN:VTIMEZONE
TZID:Europe/Berlin
X-LIC-LOCATION:Europe/Berlin
BEGIN:STANDARD
DTSTART:20241027T020000
TZOFFSETFROM:+0200
TZOFFSETTO:+0100
TZNAME:CET
END:STANDARD
END:VTIMEZONE
END:VCALENDAR