BEGIN:VCALENDAR
VERSION:2.0
PRODID:-//wp-events-plugin.com//6.4.7.2//EN
TZID:Europe/Berlin
X-WR-TIMEZONE:Europe/Berlin
BEGIN:VEVENT
UID:443@dpsg-freiburg.de
DTSTART;TZID=Europe/Berlin;VALUE=DATE:20240521
DTEND;TZID=Europe/Berlin;VALUE=DATE:20240601
DTSTAMP:20231128T120705Z
URL:https://dpsg-freiburg.de/service/veranstaltungen/buero-geschlossen-3/
SUMMARY:Büro geschlossen |  | 21. Mai 2024 - 31. Mai 2024 - ganztägig
DESCRIPTION:
CATEGORIES:Büro,Diözesanverband
END:VEVENT
BEGIN:VTIMEZONE
TZID:Europe/Berlin
X-LIC-LOCATION:Europe/Berlin
BEGIN:DAYLIGHT
DTSTART:20240331T030000
TZOFFSETFROM:+0100
TZOFFSETTO:+0200
TZNAME:CEST
END:DAYLIGHT
END:VTIMEZONE
END:VCALENDAR