BEGIN:VCALENDAR
VERSION:2.0
PRODID:-//wp-events-plugin.com//6.4.7.2//EN
TZID:Europe/Berlin
X-WR-TIMEZONE:Europe/Berlin
BEGIN:VEVENT
UID:540@dpsg-freiburg.de
DTSTART;TZID=Europe/Berlin:20250926T180000
DTEND;TZID=Europe/Berlin:20250928T140000
DTSTAMP:20250701T132622Z
URL:https://dpsg-freiburg.de/service/veranstaltungen/bildungswochenende-ge
 nder-und-identitaet/
SUMMARY:Bildungswochenende Gender und Identität | Baden-Powell-Haus | 26. 
 September 2025 - 28. September 2025 - 18:00 - 14:00
DESCRIPTION:Wir\, der AK Bildung der DPSG Freiburg\, laden zu unserem Bildu
 ngswochenende zu den Themen Gender &amp\; Identität ein. Unsere Veranstal
 tung richtet sich inhaltlich an Leitende der PSG und DPSG.\n\nNeben allgem
 einen Definitionen und Erklärungen zu den mit dem Thema verbundenen Konze
 pten\, Diskriminierungsarten und Herausforderungen in der Jugendarbeit wir
 d es auch Erfahrungsberichte von Betroffenen und Diskussions- bzw. Gesprä
 chsangebote geben. Dabei möchten wir uns auch ein Stück weit mit der eig
 enen Identität beschäftigen. Außerdem möchten wir euch jugendarbeitsbe
 zogene Hilfestellungen und Materialien mit auf den Weg geben\, um auch in 
 euren Gruppenstunden mit den Themen arbeiten und auf „eure“ Jugendlich
 en besser eingehen zu können.\n\nGerne könnt ihr auch eigene Fragestellu
 ngen aus der Jugendarbeit oder dem Privatleben mitbringen\, die wir dann z
 usammen oder auf Wunsch einzeln besprechen werden.\n\n&nbsp\;\n\nWir freue
 n uns auf euch\,\n\neuer AK Bildung\n\n&nbsp\;\n\nAnmeldung unter: https:/
 /anmeldung.dpsg-freiburg.de/dvfr/bildungs-we2/\n\n
CATEGORIES:Diözesanverband
LOCATION:Baden-Powell-Haus\, Koppenwaldstraße 1\, Gengenbach-Bergach\, Bad
 en-Württemberg\, 77723\, Deutschland
GEO:48.379819;8.038639
X-APPLE-STRUCTURED-LOCATION;VALUE=URI;X-ADDRESS=Koppenwaldstraße 1\, Genge
 nbach-Bergach\, Baden-Württemberg\, 77723\, Deutschland;X-APPLE-RADIUS=10
 0;X-TITLE=Baden-Powell-Haus:geo:48.379819,8.038639
END:VEVENT
BEGIN:VTIMEZONE
TZID:Europe/Berlin
X-LIC-LOCATION:Europe/Berlin
BEGIN:DAYLIGHT
DTSTART:20250330T030000
TZOFFSETFROM:+0100
TZOFFSETTO:+0200
TZNAME:CEST
END:DAYLIGHT
END:VTIMEZONE
END:VCALENDAR