BEGIN:VCALENDAR
VERSION:2.0
PRODID:-//wp-events-plugin.com//6.4.7.2//EN
TZID:Europe/Berlin
X-WR-TIMEZONE:Europe/Berlin
BEGIN:VEVENT
UID:565@dpsg-freiburg.de
DTSTART;TZID=Europe/Berlin;VALUE=DATE:20270610
DTEND;TZID=Europe/Berlin;VALUE=DATE:20270614
DTSTAMP:20250924T142545Z
URL:https://dpsg-freiburg.de/service/veranstaltungen/bdkj-72-stunden-uns-s
 chickt-der-himmel/
SUMMARY:BDKJ- 72 Stunden- uns schickt der Himmel |  | 10. Juni 2027 - 13. J
 uni 2027 - ganztägig
DESCRIPTION:
CATEGORIES:Diözesanverband
END:VEVENT
BEGIN:VTIMEZONE
TZID:Europe/Berlin
X-LIC-LOCATION:Europe/Berlin
BEGIN:DAYLIGHT
DTSTART:20270328T030000
TZOFFSETFROM:+0100
TZOFFSETTO:+0200
TZNAME:CEST
END:DAYLIGHT
END:VTIMEZONE
END:VCALENDAR