BEGIN:VCALENDAR
VERSION:2.0
PRODID:-//wp-events-plugin.com//6.4.7.2//EN
TZID:Europe/Berlin
X-WR-TIMEZONE:Europe/Berlin
BEGIN:VEVENT
UID:588@dpsg-freiburg.de
DTSTART;TZID=Europe/Berlin:20260511T183000
DTEND;TZID=Europe/Berlin:20260511T213000
DTSTAMP:20260420T112228Z
URL:https://dpsg-freiburg.de/service/veranstaltungen/auffrischungsschulung
 -baustein-2e/
SUMMARY:Auffrischungsschulung (Baustein 2e) |  | 11. Mai 2026 - 18:30 - 21:
 30
DESCRIPTION:Falls ihr schon mal eine Präventionsbasisschulung (Modul Baust
 ein 2d) gemacht habt und eine Auffrischung braucht\, dann meldet euch an.\
 n\nDie Schulung findet am 11.05.26 von 18:30-21:30 in Pfullendorf statt.\n
 \nAnmelden könnt ihr euch per Mail bei Line unter: Laurine.Haag@seelsorge
 amt-freiburg.de
ATTACH;FMTTYPE=image/jpeg:https://dpsg-freiburg.de/wp-content/uploads/2026
 /04/Vorlage-Insta-post-Präventionsschulung-2.png
CATEGORIES:Diözesanverband
END:VEVENT
BEGIN:VTIMEZONE
TZID:Europe/Berlin
X-LIC-LOCATION:Europe/Berlin
BEGIN:DAYLIGHT
DTSTART:20260329T030000
TZOFFSETFROM:+0100
TZOFFSETTO:+0200
TZNAME:CEST
END:DAYLIGHT
END:VTIMEZONE
END:VCALENDAR