BEGIN:VCALENDAR
VERSION:2.0
PRODID:-//wp-events-plugin.com//6.4.7.2//EN
TZID:Europe/Berlin
X-WR-TIMEZONE:Europe/Berlin
BEGIN:VEVENT
UID:573@dpsg-freiburg.de
DTSTART;TZID=Europe/Berlin:20261204T170000
DTEND;TZID=Europe/Berlin:20261206T140000
DTSTAMP:20260117T194841Z
URL:https://dpsg-freiburg.de/service/veranstaltungen/3-vorbereitungstreffe
 n-rdp-ringelager-2028-2/
SUMMARY:3. Vorbereitungstreffen rdp Ringelager 2028 | Baden-Powell-Haus | 4
 . Dezember 2026 - 6. Dezember 2026 - 17:00 - 14:00
DESCRIPTION:Die Anmeldung wird rechtzeitig vor der Veranstaltung freigescha
 ltet.
CATEGORIES:Diözesanverband
LOCATION:Baden-Powell-Haus\, Koppenwaldstraße 1\, Gengenbach-Bergach\, Bad
 en-Württemberg\, 77723\, Deutschland
GEO:48.379819;8.038639
X-APPLE-STRUCTURED-LOCATION;VALUE=URI;X-ADDRESS=Koppenwaldstraße 1\, Genge
 nbach-Bergach\, Baden-Württemberg\, 77723\, Deutschland;X-APPLE-RADIUS=10
 0;X-TITLE=Baden-Powell-Haus:geo:48.379819,8.038639
END:VEVENT
BEGIN:VTIMEZONE
TZID:Europe/Berlin
X-LIC-LOCATION:Europe/Berlin
BEGIN:STANDARD
DTSTART:20261025T020000
TZOFFSETFROM:+0200
TZOFFSETTO:+0100
TZNAME:CET
END:STANDARD
END:VTIMEZONE
END:VCALENDAR