BEGIN:VCALENDAR
VERSION:2.0
PRODID:-//wp-events-plugin.com//6.4.7.2//EN
TZID:Europe/Berlin
X-WR-TIMEZONE:Europe/Berlin
BEGIN:VEVENT
UID:575@dpsg-freiburg.de
DTSTART;TZID=Europe/Berlin:20260116T183000
DTEND;TZID=Europe/Berlin:20260116T230000
DTSTAMP:20260107T100244Z
URL:https://dpsg-freiburg.de/service/veranstaltungen/2d-schutz-vor-sexuali
 sierter-gewalt-schulung/
SUMMARY:2d Schutz vor sexualisierter Gewalt - Schulung in Mannheim |  | 16.
  Januar 2026 - 18:30 - 23:00
DESCRIPTION:in Mannheim\n\nweitere Infos erhaltet ihr bei Line (laurine.haa
 g@seelsorgeamt-freiburg.de)
CATEGORIES:Diözesanverband
END:VEVENT
BEGIN:VTIMEZONE
TZID:Europe/Berlin
X-LIC-LOCATION:Europe/Berlin
BEGIN:STANDARD
DTSTART:20251026T020000
TZOFFSETFROM:+0200
TZOFFSETTO:+0100
TZNAME:CET
END:STANDARD
END:VTIMEZONE
END:VCALENDAR