BEGIN:VCALENDAR
VERSION:2.0
PRODID:-//wp-events-plugin.com//6.4.7.2//EN
TZID:Europe/Berlin
X-WR-TIMEZONE:Europe/Berlin
BEGIN:VEVENT
UID:411@dpsg-freiburg.de
DTSTART;TZID=Europe/Berlin:20230510T183000
DTEND;TZID=Europe/Berlin:20230510T213000
DTSTAMP:20230427T112335Z
URL:https://dpsg-freiburg.de/service/veranstaltungen/2d-e-praevention-und-
 intervention-schulung/
SUMMARY:2d/e - Prävention und Intervention Schulung | DPSG Pfadiheim Stamm
  Sankt Remigius | 10. Mai 2023 - 18:30 - 21:30
DESCRIPTION:Hier wird sowohl eine Präventions-Grundlagenschulung\, als auc
 h die Auffrischungsschulung angeboten.\n\nAnmeldung über erik.ruckebier (
 ad) dpsg-freiburg.de
CATEGORIES:Diözesanverband
LOCATION:DPSG Pfadiheim Stamm Sankt Remigius\, Schlosstraße 9\, Steißling
 en\, 78256\, Deutschland
X-APPLE-STRUCTURED-LOCATION;VALUE=URI;X-ADDRESS=Schlosstraße 9\, Steißlin
 gen\, 78256\, Deutschland;X-APPLE-RADIUS=100;X-TITLE=DPSG Pfadiheim Stamm 
 Sankt Remigius:geo:0,0
END:VEVENT
BEGIN:VTIMEZONE
TZID:Europe/Berlin
X-LIC-LOCATION:Europe/Berlin
BEGIN:DAYLIGHT
DTSTART:20230326T030000
TZOFFSETFROM:+0100
TZOFFSETTO:+0200
TZNAME:CEST
END:DAYLIGHT
END:VTIMEZONE
END:VCALENDAR