BEGIN:VCALENDAR
VERSION:2.0
PRODID:-//wp-events-plugin.com//6.4.7.2//EN
TZID:Europe/Berlin
X-WR-TIMEZONE:Europe/Berlin
BEGIN:VEVENT
UID:572@dpsg-freiburg.de
DTSTART;TZID=Europe/Berlin:20260227T170000
DTEND;TZID=Europe/Berlin:20260301T140000
DTSTAMP:20260117T195018Z
URL:https://dpsg-freiburg.de/service/veranstaltungen/2-vorbereitungstreffe
 n-rdp-ringelager-2028/
SUMMARY:2. Vorbereitungstreffen rdp Ringelager 2028 | Otto-Weinmann-Haus | 
 27. Februar 2026 - 1. März 2026 - 17:00 - 14:00
DESCRIPTION:Zur Anmeldung gelangt ihr über die rdp-Homepage:\n\nRingelager
  2028 | rdp-BW
CATEGORIES:Diözesanverband
LOCATION:Otto-Weinmann-Haus\, Im Ort 60\, Waldenburg\, 74638\, Deutschland
X-APPLE-STRUCTURED-LOCATION;VALUE=URI;X-ADDRESS=Im Ort 60\, Waldenburg\, 74
 638\, Deutschland;X-APPLE-RADIUS=100;X-TITLE=Otto-Weinmann-Haus:geo:0,0
END:VEVENT
BEGIN:VTIMEZONE
TZID:Europe/Berlin
X-LIC-LOCATION:Europe/Berlin
BEGIN:STANDARD
DTSTART:20251026T020000
TZOFFSETFROM:+0200
TZOFFSETTO:+0100
TZNAME:CET
END:STANDARD
END:VTIMEZONE
END:VCALENDAR