BEGIN:VCALENDAR
VERSION:2.0
PRODID:-//wp-events-plugin.com//6.4.7.2//EN
TZID:Europe/Berlin
X-WR-TIMEZONE:Europe/Berlin
BEGIN:VEVENT
UID:567@dpsg-freiburg.de
DTSTART;TZID=Europe/Berlin:20251121T170000
DTEND;TZID=Europe/Berlin:20251123T140000
DTSTAMP:20251113T104809Z
URL:https://dpsg-freiburg.de/service/veranstaltungen/1-vorbereitungstreffe
 n-vbt-rdp-ringelager-2028/
SUMMARY:1. Vorbereitungstreffen rdp Ringelager 2028 | Pfadfinderzentrum Sch
 achen | 21. November 2025 - 23. November 2025 - 17:00 - 14:00
DESCRIPTION:Die Anmeldung ist hier möglich:\n\nhttps://rdp-bw.de/2025-11_r
 ingelager-vbt/
CATEGORIES:Diözesanverband
LOCATION:Pfadfinderzentrum Schachen\, Schachen 1\, Münsingen\, 72525\, Deu
 tschland
X-APPLE-STRUCTURED-LOCATION;VALUE=URI;X-ADDRESS=Schachen 1\, Münsingen\, 7
 2525\, Deutschland;X-APPLE-RADIUS=100;X-TITLE=Pfadfinderzentrum Schachen:g
 eo:0,0
END:VEVENT
BEGIN:VTIMEZONE
TZID:Europe/Berlin
X-LIC-LOCATION:Europe/Berlin
BEGIN:STANDARD
DTSTART:20251026T020000
TZOFFSETFROM:+0200
TZOFFSETTO:+0100
TZNAME:CET
END:STANDARD
END:VTIMEZONE
END:VCALENDAR